BEGIN:VCALENDAR
VERSION:2.0
PRODID:-//Northern Sky Theater - ECPv6.15.20//NONSGML v1.0//EN
CALSCALE:GREGORIAN
METHOD:PUBLISH
X-WR-CALNAME:Northern Sky Theater
X-ORIGINAL-URL:https://northernskytheater.com
X-WR-CALDESC:Events for Northern Sky Theater
REFRESH-INTERVAL;VALUE=DURATION:PT1H
X-Robots-Tag:noindex
X-PUBLISHED-TTL:PT1H
BEGIN:VTIMEZONE
TZID:America/Chicago
BEGIN:DAYLIGHT
TZOFFSETFROM:-0600
TZOFFSETTO:-0500
TZNAME:CDT
DTSTART:20250309T080000
END:DAYLIGHT
BEGIN:STANDARD
TZOFFSETFROM:-0500
TZOFFSETTO:-0600
TZNAME:CST
DTSTART:20251102T070000
END:STANDARD
BEGIN:DAYLIGHT
TZOFFSETFROM:-0600
TZOFFSETTO:-0500
TZNAME:CDT
DTSTART:20260308T080000
END:DAYLIGHT
BEGIN:STANDARD
TZOFFSETFROM:-0500
TZOFFSETTO:-0600
TZNAME:CST
DTSTART:20261101T070000
END:STANDARD
BEGIN:DAYLIGHT
TZOFFSETFROM:-0600
TZOFFSETTO:-0500
TZNAME:CDT
DTSTART:20270314T080000
END:DAYLIGHT
BEGIN:STANDARD
TZOFFSETFROM:-0500
TZOFFSETTO:-0600
TZNAME:CST
DTSTART:20271107T070000
END:STANDARD
END:VTIMEZONE
BEGIN:VEVENT
DTSTART;TZID=America/Chicago:20260801T193000
DTEND;TZID=America/Chicago:20260801T210000
DTSTAMP:20260420T070846
CREATED:20260211T154304Z
LAST-MODIFIED:20260211T154304Z
UID:30896-1785612600-1785618000@northernskytheater.com
SUMMARY:The Thing with Feathers
DESCRIPTION:This summer’s premiere about birds\, the people who love them\, and the people who don’t understand the people who love them. Alongside human characters\, creative bird puppetry will be featured in the telling of this radiant tale. 
URL:https://northernskytheater.com/event/the-thing-with-feathers-2/2026-08-01/
CATEGORIES:Outdoor Park Theater
ATTACH;FMTTYPE=image/png:https://cdn.townweb.com/northernskytheater.com/wp-content/uploads/2026/02/TTWF_CMYK.png
END:VEVENT
BEGIN:VEVENT
DTSTART;TZID=America/Chicago:20260803T170000
DTEND;TZID=America/Chicago:20260803T193000
DTSTAMP:20260420T070846
CREATED:20260211T154305Z
LAST-MODIFIED:20260211T154305Z
UID:30897-1785776400-1785785400@northernskytheater.com
SUMMARY:The Thing with Feathers
DESCRIPTION:This summer’s premiere about birds\, the people who love them\, and the people who don’t understand the people who love them. Alongside human characters\, creative bird puppetry will be featured in the telling of this radiant tale. 
URL:https://northernskytheater.com/event/the-thing-with-feathers-2/2026-08-03/
CATEGORIES:Outdoor Park Theater
ATTACH;FMTTYPE=image/png:https://cdn.townweb.com/northernskytheater.com/wp-content/uploads/2026/02/TTWF_CMYK.png
END:VEVENT
BEGIN:VEVENT
DTSTART;TZID=America/Chicago:20260803T193000
DTEND;TZID=America/Chicago:20260803T210000
DTSTAMP:20260420T070846
CREATED:20260211T155110Z
LAST-MODIFIED:20260211T155110Z
UID:30968-1785785400-1785790800@northernskytheater.com
SUMMARY:Something in the Water
DESCRIPTION:Madcap mayhem and mistaken identities abound in this Vaudevillian murder mystery – where no one really dies. (Did you get rained out? Here’s another chance!)
URL:https://northernskytheater.com/event/something-in-the-water-2-2/2026-08-03/
CATEGORIES:Outdoor Park Theater
ATTACH;FMTTYPE=image/png:https://cdn.townweb.com/northernskytheater.com/wp-content/uploads/2025/02/SomethingIntTheWater_FullColor.png
END:VEVENT
BEGIN:VEVENT
DTSTART;TZID=America/Chicago:20260804T193000
DTEND;TZID=America/Chicago:20260804T210000
DTSTAMP:20260420T070846
CREATED:20260211T154725Z
LAST-MODIFIED:20260211T154725Z
UID:30950-1785871800-1785877200@northernskytheater.com
SUMMARY:When Butter Churns to Gold
DESCRIPTION:A dash of dastardly deeds and dairy delights. A villain (boo!)\, a hero (yay!)\, a heroine (aww!)\, and trusty sidekicks in a romp with plenty of audience interaction.
URL:https://northernskytheater.com/event/when-butter-churns-to-gold-4/2026-08-04/
CATEGORIES:Outdoor Park Theater
ATTACH;FMTTYPE=image/png:https://cdn.townweb.com/northernskytheater.com/wp-content/uploads/2016/02/When-Butter-Churns-Gold-rotator-logo.png
END:VEVENT
BEGIN:VEVENT
DTSTART;TZID=America/Chicago:20260805T193000
DTEND;TZID=America/Chicago:20260805T210000
DTSTAMP:20260420T070846
CREATED:20260211T154305Z
LAST-MODIFIED:20260211T154305Z
UID:30898-1785958200-1785963600@northernskytheater.com
SUMMARY:The Thing with Feathers
DESCRIPTION:This summer’s premiere about birds\, the people who love them\, and the people who don’t understand the people who love them. Alongside human characters\, creative bird puppetry will be featured in the telling of this radiant tale. 
URL:https://northernskytheater.com/event/the-thing-with-feathers-2/2026-08-05/
CATEGORIES:Outdoor Park Theater
ATTACH;FMTTYPE=image/png:https://cdn.townweb.com/northernskytheater.com/wp-content/uploads/2026/02/TTWF_CMYK.png
END:VEVENT
BEGIN:VEVENT
DTSTART;TZID=America/Chicago:20260806T193000
DTEND;TZID=America/Chicago:20260806T210000
DTSTAMP:20260420T070846
CREATED:20260211T155110Z
LAST-MODIFIED:20260211T155110Z
UID:30970-1786044600-1786050000@northernskytheater.com
SUMMARY:Something in the Water
DESCRIPTION:Madcap mayhem and mistaken identities abound in this Vaudevillian murder mystery – where no one really dies. (Did you get rained out? Here’s another chance!)
URL:https://northernskytheater.com/event/something-in-the-water-2-2/2026-08-06/
CATEGORIES:Outdoor Park Theater
ATTACH;FMTTYPE=image/png:https://cdn.townweb.com/northernskytheater.com/wp-content/uploads/2025/02/SomethingIntTheWater_FullColor.png
END:VEVENT
BEGIN:VEVENT
DTSTART;TZID=America/Chicago:20260807T193000
DTEND;TZID=America/Chicago:20260807T210000
DTSTAMP:20260420T070846
CREATED:20260211T154725Z
LAST-MODIFIED:20260211T154725Z
UID:30951-1786131000-1786136400@northernskytheater.com
SUMMARY:When Butter Churns to Gold
DESCRIPTION:A dash of dastardly deeds and dairy delights. A villain (boo!)\, a hero (yay!)\, a heroine (aww!)\, and trusty sidekicks in a romp with plenty of audience interaction.
URL:https://northernskytheater.com/event/when-butter-churns-to-gold-4/2026-08-07/
CATEGORIES:Outdoor Park Theater
ATTACH;FMTTYPE=image/png:https://cdn.townweb.com/northernskytheater.com/wp-content/uploads/2016/02/When-Butter-Churns-Gold-rotator-logo.png
END:VEVENT
BEGIN:VEVENT
DTSTART;TZID=America/Chicago:20260808T193000
DTEND;TZID=America/Chicago:20260808T210000
DTSTAMP:20260420T070846
CREATED:20260211T154305Z
LAST-MODIFIED:20260211T154305Z
UID:30899-1786217400-1786222800@northernskytheater.com
SUMMARY:The Thing with Feathers
DESCRIPTION:This summer’s premiere about birds\, the people who love them\, and the people who don’t understand the people who love them. Alongside human characters\, creative bird puppetry will be featured in the telling of this radiant tale. 
URL:https://northernskytheater.com/event/the-thing-with-feathers-2/2026-08-08/
CATEGORIES:Outdoor Park Theater
ATTACH;FMTTYPE=image/png:https://cdn.townweb.com/northernskytheater.com/wp-content/uploads/2026/02/TTWF_CMYK.png
END:VEVENT
BEGIN:VEVENT
DTSTART;TZID=America/Chicago:20260810T170000
DTEND;TZID=America/Chicago:20260810T193000
DTSTAMP:20260420T070846
CREATED:20260211T154308Z
LAST-MODIFIED:20260211T154308Z
UID:30900-1786381200-1786390200@northernskytheater.com
SUMMARY:The Thing with Feathers
DESCRIPTION:This summer’s premiere about birds\, the people who love them\, and the people who don’t understand the people who love them. Alongside human characters\, creative bird puppetry will be featured in the telling of this radiant tale. 
URL:https://northernskytheater.com/event/the-thing-with-feathers-2/2026-08-10/
CATEGORIES:Outdoor Park Theater
ATTACH;FMTTYPE=image/png:https://cdn.townweb.com/northernskytheater.com/wp-content/uploads/2026/02/TTWF_CMYK.png
END:VEVENT
BEGIN:VEVENT
DTSTART;TZID=America/Chicago:20260810T193000
DTEND;TZID=America/Chicago:20260810T210000
DTSTAMP:20260420T070846
CREATED:20260211T155110Z
LAST-MODIFIED:20260211T155110Z
UID:30971-1786390200-1786395600@northernskytheater.com
SUMMARY:Something in the Water
DESCRIPTION:Madcap mayhem and mistaken identities abound in this Vaudevillian murder mystery – where no one really dies. (Did you get rained out? Here’s another chance!)
URL:https://northernskytheater.com/event/something-in-the-water-2-2/2026-08-10/
CATEGORIES:Outdoor Park Theater
ATTACH;FMTTYPE=image/png:https://cdn.townweb.com/northernskytheater.com/wp-content/uploads/2025/02/SomethingIntTheWater_FullColor.png
END:VEVENT
BEGIN:VEVENT
DTSTART;TZID=America/Chicago:20260811T193000
DTEND;TZID=America/Chicago:20260811T210000
DTSTAMP:20260420T070846
CREATED:20260211T154725Z
LAST-MODIFIED:20260211T154725Z
UID:30952-1786476600-1786482000@northernskytheater.com
SUMMARY:When Butter Churns to Gold
DESCRIPTION:A dash of dastardly deeds and dairy delights. A villain (boo!)\, a hero (yay!)\, a heroine (aww!)\, and trusty sidekicks in a romp with plenty of audience interaction.
URL:https://northernskytheater.com/event/when-butter-churns-to-gold-4/2026-08-11/
CATEGORIES:Outdoor Park Theater
ATTACH;FMTTYPE=image/png:https://cdn.townweb.com/northernskytheater.com/wp-content/uploads/2016/02/When-Butter-Churns-Gold-rotator-logo.png
END:VEVENT
BEGIN:VEVENT
DTSTART;TZID=America/Chicago:20260812T193000
DTEND;TZID=America/Chicago:20260812T210000
DTSTAMP:20260420T070846
CREATED:20260211T154309Z
LAST-MODIFIED:20260211T154309Z
UID:30901-1786563000-1786568400@northernskytheater.com
SUMMARY:The Thing with Feathers
DESCRIPTION:This summer’s premiere about birds\, the people who love them\, and the people who don’t understand the people who love them. Alongside human characters\, creative bird puppetry will be featured in the telling of this radiant tale. 
URL:https://northernskytheater.com/event/the-thing-with-feathers-2/2026-08-12/
CATEGORIES:Outdoor Park Theater
ATTACH;FMTTYPE=image/png:https://cdn.townweb.com/northernskytheater.com/wp-content/uploads/2026/02/TTWF_CMYK.png
END:VEVENT
BEGIN:VEVENT
DTSTART;TZID=America/Chicago:20260813T193000
DTEND;TZID=America/Chicago:20260813T210000
DTSTAMP:20260420T070846
CREATED:20260211T155110Z
LAST-MODIFIED:20260211T155110Z
UID:30972-1786649400-1786654800@northernskytheater.com
SUMMARY:Something in the Water
DESCRIPTION:Madcap mayhem and mistaken identities abound in this Vaudevillian murder mystery – where no one really dies. (Did you get rained out? Here’s another chance!)
URL:https://northernskytheater.com/event/something-in-the-water-2-2/2026-08-13/
CATEGORIES:Outdoor Park Theater
ATTACH;FMTTYPE=image/png:https://cdn.townweb.com/northernskytheater.com/wp-content/uploads/2025/02/SomethingIntTheWater_FullColor.png
END:VEVENT
BEGIN:VEVENT
DTSTART;TZID=America/Chicago:20260814T193000
DTEND;TZID=America/Chicago:20260814T210000
DTSTAMP:20260420T070846
CREATED:20260211T154725Z
LAST-MODIFIED:20260211T154725Z
UID:30953-1786735800-1786741200@northernskytheater.com
SUMMARY:When Butter Churns to Gold
DESCRIPTION:A dash of dastardly deeds and dairy delights. A villain (boo!)\, a hero (yay!)\, a heroine (aww!)\, and trusty sidekicks in a romp with plenty of audience interaction.
URL:https://northernskytheater.com/event/when-butter-churns-to-gold-4/2026-08-14/
CATEGORIES:Outdoor Park Theater
ATTACH;FMTTYPE=image/png:https://cdn.townweb.com/northernskytheater.com/wp-content/uploads/2016/02/When-Butter-Churns-Gold-rotator-logo.png
END:VEVENT
BEGIN:VEVENT
DTSTART;TZID=America/Chicago:20260815T193000
DTEND;TZID=America/Chicago:20260815T210000
DTSTAMP:20260420T070846
CREATED:20260211T154309Z
LAST-MODIFIED:20260211T154309Z
UID:30902-1786822200-1786827600@northernskytheater.com
SUMMARY:The Thing with Feathers
DESCRIPTION:This summer’s premiere about birds\, the people who love them\, and the people who don’t understand the people who love them. Alongside human characters\, creative bird puppetry will be featured in the telling of this radiant tale. 
URL:https://northernskytheater.com/event/the-thing-with-feathers-2/2026-08-15/
CATEGORIES:Outdoor Park Theater
ATTACH;FMTTYPE=image/png:https://cdn.townweb.com/northernskytheater.com/wp-content/uploads/2026/02/TTWF_CMYK.png
END:VEVENT
BEGIN:VEVENT
DTSTART;TZID=America/Chicago:20260817T170000
DTEND;TZID=America/Chicago:20260817T193000
DTSTAMP:20260420T070846
CREATED:20260211T154310Z
LAST-MODIFIED:20260211T154310Z
UID:30903-1786986000-1786995000@northernskytheater.com
SUMMARY:The Thing with Feathers
DESCRIPTION:This summer’s premiere about birds\, the people who love them\, and the people who don’t understand the people who love them. Alongside human characters\, creative bird puppetry will be featured in the telling of this radiant tale. 
URL:https://northernskytheater.com/event/the-thing-with-feathers-2/2026-08-17/
CATEGORIES:Outdoor Park Theater
ATTACH;FMTTYPE=image/png:https://cdn.townweb.com/northernskytheater.com/wp-content/uploads/2026/02/TTWF_CMYK.png
END:VEVENT
BEGIN:VEVENT
DTSTART;TZID=America/Chicago:20260817T193000
DTEND;TZID=America/Chicago:20260817T210000
DTSTAMP:20260420T070846
CREATED:20260211T155110Z
LAST-MODIFIED:20260211T155110Z
UID:30973-1786995000-1787000400@northernskytheater.com
SUMMARY:Something in the Water
DESCRIPTION:Madcap mayhem and mistaken identities abound in this Vaudevillian murder mystery – where no one really dies. (Did you get rained out? Here’s another chance!)
URL:https://northernskytheater.com/event/something-in-the-water-2-2/2026-08-17/
CATEGORIES:Outdoor Park Theater
ATTACH;FMTTYPE=image/png:https://cdn.townweb.com/northernskytheater.com/wp-content/uploads/2025/02/SomethingIntTheWater_FullColor.png
END:VEVENT
BEGIN:VEVENT
DTSTART;TZID=America/Chicago:20260818T193000
DTEND;TZID=America/Chicago:20260818T210000
DTSTAMP:20260420T070846
CREATED:20260211T154725Z
LAST-MODIFIED:20260211T154725Z
UID:30954-1787081400-1787086800@northernskytheater.com
SUMMARY:When Butter Churns to Gold
DESCRIPTION:A dash of dastardly deeds and dairy delights. A villain (boo!)\, a hero (yay!)\, a heroine (aww!)\, and trusty sidekicks in a romp with plenty of audience interaction.
URL:https://northernskytheater.com/event/when-butter-churns-to-gold-4/2026-08-18/
CATEGORIES:Outdoor Park Theater
ATTACH;FMTTYPE=image/png:https://cdn.townweb.com/northernskytheater.com/wp-content/uploads/2016/02/When-Butter-Churns-Gold-rotator-logo.png
END:VEVENT
BEGIN:VEVENT
DTSTART;TZID=America/Chicago:20260819T193000
DTEND;TZID=America/Chicago:20260819T210000
DTSTAMP:20260420T070846
CREATED:20260211T154310Z
LAST-MODIFIED:20260211T154310Z
UID:30904-1787167800-1787173200@northernskytheater.com
SUMMARY:The Thing with Feathers
DESCRIPTION:This summer’s premiere about birds\, the people who love them\, and the people who don’t understand the people who love them. Alongside human characters\, creative bird puppetry will be featured in the telling of this radiant tale. 
URL:https://northernskytheater.com/event/the-thing-with-feathers-2/2026-08-19/
CATEGORIES:Outdoor Park Theater
ATTACH;FMTTYPE=image/png:https://cdn.townweb.com/northernskytheater.com/wp-content/uploads/2026/02/TTWF_CMYK.png
END:VEVENT
BEGIN:VEVENT
DTSTART;TZID=America/Chicago:20260820T193000
DTEND;TZID=America/Chicago:20260820T210000
DTSTAMP:20260420T070846
CREATED:20260211T155110Z
LAST-MODIFIED:20260211T155110Z
UID:30974-1787254200-1787259600@northernskytheater.com
SUMMARY:Something in the Water
DESCRIPTION:Madcap mayhem and mistaken identities abound in this Vaudevillian murder mystery – where no one really dies. (Did you get rained out? Here’s another chance!)
URL:https://northernskytheater.com/event/something-in-the-water-2-2/2026-08-20/
CATEGORIES:Outdoor Park Theater
ATTACH;FMTTYPE=image/png:https://cdn.townweb.com/northernskytheater.com/wp-content/uploads/2025/02/SomethingIntTheWater_FullColor.png
END:VEVENT
BEGIN:VEVENT
DTSTART;TZID=America/Chicago:20260821T193000
DTEND;TZID=America/Chicago:20260821T210000
DTSTAMP:20260420T070846
CREATED:20260211T154725Z
LAST-MODIFIED:20260211T154725Z
UID:30955-1787340600-1787346000@northernskytheater.com
SUMMARY:When Butter Churns to Gold
DESCRIPTION:A dash of dastardly deeds and dairy delights. A villain (boo!)\, a hero (yay!)\, a heroine (aww!)\, and trusty sidekicks in a romp with plenty of audience interaction.
URL:https://northernskytheater.com/event/when-butter-churns-to-gold-4/2026-08-21/
CATEGORIES:Outdoor Park Theater
ATTACH;FMTTYPE=image/png:https://cdn.townweb.com/northernskytheater.com/wp-content/uploads/2016/02/When-Butter-Churns-Gold-rotator-logo.png
END:VEVENT
BEGIN:VEVENT
DTSTART;TZID=America/Chicago:20260822T193000
DTEND;TZID=America/Chicago:20260822T210000
DTSTAMP:20260420T070846
CREATED:20260211T154310Z
LAST-MODIFIED:20260211T154310Z
UID:30905-1787427000-1787432400@northernskytheater.com
SUMMARY:The Thing with Feathers
DESCRIPTION:This summer’s premiere about birds\, the people who love them\, and the people who don’t understand the people who love them. Alongside human characters\, creative bird puppetry will be featured in the telling of this radiant tale. 
URL:https://northernskytheater.com/event/the-thing-with-feathers-2/2026-08-22/
CATEGORIES:Outdoor Park Theater
ATTACH;FMTTYPE=image/png:https://cdn.townweb.com/northernskytheater.com/wp-content/uploads/2026/02/TTWF_CMYK.png
END:VEVENT
BEGIN:VEVENT
DTSTART;TZID=America/Chicago:20260824T170000
DTEND;TZID=America/Chicago:20260824T193000
DTSTAMP:20260420T070846
CREATED:20260211T154311Z
LAST-MODIFIED:20260211T154311Z
UID:30906-1787590800-1787599800@northernskytheater.com
SUMMARY:The Thing with Feathers
DESCRIPTION:This summer’s premiere about birds\, the people who love them\, and the people who don’t understand the people who love them. Alongside human characters\, creative bird puppetry will be featured in the telling of this radiant tale. 
URL:https://northernskytheater.com/event/the-thing-with-feathers-2/2026-08-24/
CATEGORIES:Outdoor Park Theater
ATTACH;FMTTYPE=image/png:https://cdn.townweb.com/northernskytheater.com/wp-content/uploads/2026/02/TTWF_CMYK.png
END:VEVENT
BEGIN:VEVENT
DTSTART;TZID=America/Chicago:20260824T193000
DTEND;TZID=America/Chicago:20260824T210000
DTSTAMP:20260420T070846
CREATED:20260211T155110Z
LAST-MODIFIED:20260211T155110Z
UID:30975-1787599800-1787605200@northernskytheater.com
SUMMARY:Something in the Water
DESCRIPTION:Madcap mayhem and mistaken identities abound in this Vaudevillian murder mystery – where no one really dies. (Did you get rained out? Here’s another chance!)
URL:https://northernskytheater.com/event/something-in-the-water-2-2/2026-08-24/
CATEGORIES:Outdoor Park Theater
ATTACH;FMTTYPE=image/png:https://cdn.townweb.com/northernskytheater.com/wp-content/uploads/2025/02/SomethingIntTheWater_FullColor.png
END:VEVENT
BEGIN:VEVENT
DTSTART;TZID=America/Chicago:20260825T193000
DTEND;TZID=America/Chicago:20260825T210000
DTSTAMP:20260420T070846
CREATED:20260211T154725Z
LAST-MODIFIED:20260211T154725Z
UID:30956-1787686200-1787691600@northernskytheater.com
SUMMARY:When Butter Churns to Gold
DESCRIPTION:A dash of dastardly deeds and dairy delights. A villain (boo!)\, a hero (yay!)\, a heroine (aww!)\, and trusty sidekicks in a romp with plenty of audience interaction.
URL:https://northernskytheater.com/event/when-butter-churns-to-gold-4/2026-08-25/
CATEGORIES:Outdoor Park Theater
ATTACH;FMTTYPE=image/png:https://cdn.townweb.com/northernskytheater.com/wp-content/uploads/2016/02/When-Butter-Churns-Gold-rotator-logo.png
END:VEVENT
BEGIN:VEVENT
DTSTART;TZID=America/Chicago:20260826T193000
DTEND;TZID=America/Chicago:20260826T210000
DTSTAMP:20260420T070846
CREATED:20260211T154311Z
LAST-MODIFIED:20260211T154311Z
UID:30907-1787772600-1787778000@northernskytheater.com
SUMMARY:The Thing with Feathers
DESCRIPTION:This summer’s premiere about birds\, the people who love them\, and the people who don’t understand the people who love them. Alongside human characters\, creative bird puppetry will be featured in the telling of this radiant tale. 
URL:https://northernskytheater.com/event/the-thing-with-feathers-2/2026-08-26/
CATEGORIES:Outdoor Park Theater
ATTACH;FMTTYPE=image/png:https://cdn.townweb.com/northernskytheater.com/wp-content/uploads/2026/02/TTWF_CMYK.png
END:VEVENT
BEGIN:VEVENT
DTSTART;TZID=America/Chicago:20260827T193000
DTEND;TZID=America/Chicago:20260827T210000
DTSTAMP:20260420T070846
CREATED:20260211T155110Z
LAST-MODIFIED:20260211T155110Z
UID:30976-1787859000-1787864400@northernskytheater.com
SUMMARY:Something in the Water
DESCRIPTION:Madcap mayhem and mistaken identities abound in this Vaudevillian murder mystery – where no one really dies. (Did you get rained out? Here’s another chance!)
URL:https://northernskytheater.com/event/something-in-the-water-2-2/2026-08-27/
CATEGORIES:Outdoor Park Theater
ATTACH;FMTTYPE=image/png:https://cdn.townweb.com/northernskytheater.com/wp-content/uploads/2025/02/SomethingIntTheWater_FullColor.png
END:VEVENT
BEGIN:VEVENT
DTSTART;TZID=America/Chicago:20260828T193000
DTEND;TZID=America/Chicago:20260828T210000
DTSTAMP:20260420T070846
CREATED:20260211T154725Z
LAST-MODIFIED:20260211T154725Z
UID:30957-1787945400-1787950800@northernskytheater.com
SUMMARY:When Butter Churns to Gold
DESCRIPTION:A dash of dastardly deeds and dairy delights. A villain (boo!)\, a hero (yay!)\, a heroine (aww!)\, and trusty sidekicks in a romp with plenty of audience interaction.
URL:https://northernskytheater.com/event/when-butter-churns-to-gold-4/2026-08-28/
CATEGORIES:Outdoor Park Theater
ATTACH;FMTTYPE=image/png:https://cdn.townweb.com/northernskytheater.com/wp-content/uploads/2016/02/When-Butter-Churns-Gold-rotator-logo.png
END:VEVENT
BEGIN:VEVENT
DTSTART;TZID=America/Chicago:20260829T193000
DTEND;TZID=America/Chicago:20260829T210000
DTSTAMP:20260420T070846
CREATED:20260211T154312Z
LAST-MODIFIED:20260211T154312Z
UID:30908-1788031800-1788037200@northernskytheater.com
SUMMARY:The Thing with Feathers
DESCRIPTION:This summer’s premiere about birds\, the people who love them\, and the people who don’t understand the people who love them. Alongside human characters\, creative bird puppetry will be featured in the telling of this radiant tale. 
URL:https://northernskytheater.com/event/the-thing-with-feathers-2/2026-08-29/
CATEGORIES:Outdoor Park Theater
ATTACH;FMTTYPE=image/png:https://cdn.townweb.com/northernskytheater.com/wp-content/uploads/2026/02/TTWF_CMYK.png
END:VEVENT
END:VCALENDAR