BEGIN:VCALENDAR
VERSION:2.0
PRODID:-//Northern Sky Theater - ECPv6.15.20//NONSGML v1.0//EN
CALSCALE:GREGORIAN
METHOD:PUBLISH
X-WR-CALNAME:Northern Sky Theater
X-ORIGINAL-URL:https://northernskytheater.com
X-WR-CALDESC:Events for Northern Sky Theater
REFRESH-INTERVAL;VALUE=DURATION:PT1H
X-Robots-Tag:noindex
X-PUBLISHED-TTL:PT1H
BEGIN:VTIMEZONE
TZID:America/Chicago
BEGIN:DAYLIGHT
TZOFFSETFROM:-0600
TZOFFSETTO:-0500
TZNAME:CDT
DTSTART:20240310T080000
END:DAYLIGHT
BEGIN:STANDARD
TZOFFSETFROM:-0500
TZOFFSETTO:-0600
TZNAME:CST
DTSTART:20241103T070000
END:STANDARD
BEGIN:DAYLIGHT
TZOFFSETFROM:-0600
TZOFFSETTO:-0500
TZNAME:CDT
DTSTART:20250309T080000
END:DAYLIGHT
BEGIN:STANDARD
TZOFFSETFROM:-0500
TZOFFSETTO:-0600
TZNAME:CST
DTSTART:20251102T070000
END:STANDARD
BEGIN:DAYLIGHT
TZOFFSETFROM:-0600
TZOFFSETTO:-0500
TZNAME:CDT
DTSTART:20260308T080000
END:DAYLIGHT
BEGIN:STANDARD
TZOFFSETFROM:-0500
TZOFFSETTO:-0600
TZNAME:CST
DTSTART:20261101T070000
END:STANDARD
END:VTIMEZONE
BEGIN:VEVENT
DTSTART;TZID=America/Chicago:20250524T170000
DTEND;TZID=America/Chicago:20250524T170000
DTSTAMP:20260421T032315
CREATED:20250507T202055Z
LAST-MODIFIED:20250507T202236Z
UID:30257-1748106000-1748106000@northernskytheater.com
SUMMARY:Raise the Curtain: Light the Sky
DESCRIPTION:Join us for our biggest (and only!) fundraising event of the season—Raise the Curtain: Light the Sky—on Saturday\, May 24 at the Gould Theater! The evening features tasty treats\, live music around the bonfire\, and a special performance by the Northern Sky Company—a first look at the magic coming to our stage this summer. \n\n\n 
URL:https://northernskytheater.com/event/raise-the-curtain-light-the-sky-3/
LOCATION:Indoor Gould Theater\, 9058 County Road A\, Fish Creek\, WI\, 54212\, United States
CATEGORIES:Indoor Gould Theater
ATTACH;FMTTYPE=image/png:https://cdn.townweb.com/northernskytheater.com/wp-content/uploads/2025/04/RAISE-THE-CURTAIN-LIGHT-THE-SKY-1.png
END:VEVENT
END:VCALENDAR