BEGIN:VCALENDAR
VERSION:2.0
PRODID:-//Northern Sky Theater - ECPv6.15.20//NONSGML v1.0//EN
CALSCALE:GREGORIAN
METHOD:PUBLISH
X-ORIGINAL-URL:https://northernskytheater.com
X-WR-CALDESC:Events for Northern Sky Theater
REFRESH-INTERVAL;VALUE=DURATION:PT1H
X-Robots-Tag:noindex
X-PUBLISHED-TTL:PT1H
BEGIN:VTIMEZONE
TZID:America/Chicago
BEGIN:DAYLIGHT
TZOFFSETFROM:-0600
TZOFFSETTO:-0500
TZNAME:CDT
DTSTART:20230312T080000
END:DAYLIGHT
BEGIN:STANDARD
TZOFFSETFROM:-0500
TZOFFSETTO:-0600
TZNAME:CST
DTSTART:20231105T070000
END:STANDARD
BEGIN:DAYLIGHT
TZOFFSETFROM:-0600
TZOFFSETTO:-0500
TZNAME:CDT
DTSTART:20240310T080000
END:DAYLIGHT
BEGIN:STANDARD
TZOFFSETFROM:-0500
TZOFFSETTO:-0600
TZNAME:CST
DTSTART:20241103T070000
END:STANDARD
BEGIN:DAYLIGHT
TZOFFSETFROM:-0600
TZOFFSETTO:-0500
TZNAME:CDT
DTSTART:20250309T080000
END:DAYLIGHT
BEGIN:STANDARD
TZOFFSETFROM:-0500
TZOFFSETTO:-0600
TZNAME:CST
DTSTART:20251102T070000
END:STANDARD
END:VTIMEZONE
BEGIN:VEVENT
DTSTART;TZID=America/Chicago:20240902T140000
DTEND;TZID=America/Chicago:20240902T153000
DTSTAMP:20260421T162833
CREATED:20240228T195704Z
LAST-MODIFIED:20240606T180557Z
UID:28761-1725285600-1725291000@northernskytheater.com
SUMMARY:Reality Trip
DESCRIPTION:Reality Trip follows three college friends vacationing in Door County who want to get off the grid and reconnect. But a charming (and infinitely helpful) A.I. home-assistant installed at their rental cottage changes up the plans. What does it take for us to truly unplug nowadays? This musical comedy is about the importance of real human connection in a distraction-filled\, digital world.
URL:https://northernskytheater.com/event/reality-trip-2/2024-09-02/
CATEGORIES:Indoor Gould Theater
ATTACH;FMTTYPE=image/png:https://cdn.townweb.com/northernskytheater.com/wp-content/uploads/2024/03/RT_color-V.png
END:VEVENT
BEGIN:VEVENT
DTSTART;TZID=America/Chicago:20240903T190000
DTEND;TZID=America/Chicago:20240903T203000
DTSTAMP:20260421T162833
CREATED:20240228T195704Z
LAST-MODIFIED:20240606T180557Z
UID:28741-1725390000-1725395400@northernskytheater.com
SUMMARY:Reality Trip
DESCRIPTION:Reality Trip follows three college friends vacationing in Door County who want to get off the grid and reconnect. But a charming (and infinitely helpful) A.I. home-assistant installed at their rental cottage changes up the plans. What does it take for us to truly unplug nowadays? This musical comedy is about the importance of real human connection in a distraction-filled\, digital world.
URL:https://northernskytheater.com/event/reality-trip-2/2024-09-03/
CATEGORIES:Indoor Gould Theater
ATTACH;FMTTYPE=image/png:https://cdn.townweb.com/northernskytheater.com/wp-content/uploads/2024/03/RT_color-V.png
END:VEVENT
BEGIN:VEVENT
DTSTART;TZID=America/Chicago:20240904T190000
DTEND;TZID=America/Chicago:20240904T203000
DTSTAMP:20260421T162833
CREATED:20240228T195704Z
LAST-MODIFIED:20240606T180558Z
UID:28236-1725476400-1725481800@northernskytheater.com
SUMMARY:Reality Trip
DESCRIPTION:Reality Trip follows three college friends vacationing in Door County who want to get off the grid and reconnect. But a charming (and infinitely helpful) A.I. home-assistant installed at their rental cottage changes up the plans. What does it take for us to truly unplug nowadays? This musical comedy is about the importance of real human connection in a distraction-filled\, digital world.
URL:https://northernskytheater.com/event/reality-trip-2/2024-09-04/
CATEGORIES:Indoor Gould Theater
ATTACH;FMTTYPE=image/png:https://cdn.townweb.com/northernskytheater.com/wp-content/uploads/2024/03/RT_color-V.png
END:VEVENT
BEGIN:VEVENT
DTSTART;TZID=America/Chicago:20240905T190000
DTEND;TZID=America/Chicago:20240905T203000
DTSTAMP:20260421T162833
CREATED:20240228T195704Z
LAST-MODIFIED:20240606T180558Z
UID:28237-1725562800-1725568200@northernskytheater.com
SUMMARY:Reality Trip
DESCRIPTION:Reality Trip follows three college friends vacationing in Door County who want to get off the grid and reconnect. But a charming (and infinitely helpful) A.I. home-assistant installed at their rental cottage changes up the plans. What does it take for us to truly unplug nowadays? This musical comedy is about the importance of real human connection in a distraction-filled\, digital world.
URL:https://northernskytheater.com/event/reality-trip-2/2024-09-05/
CATEGORIES:Indoor Gould Theater
ATTACH;FMTTYPE=image/png:https://cdn.townweb.com/northernskytheater.com/wp-content/uploads/2024/03/RT_color-V.png
END:VEVENT
BEGIN:VEVENT
DTSTART;TZID=America/Chicago:20240906T100000
DTEND;TZID=America/Chicago:20240906T120000
DTSTAMP:20260421T162834
CREATED:20240228T195704Z
LAST-MODIFIED:20240816T150120Z
UID:28238-1725616800-1725624000@northernskytheater.com
SUMMARY:Reality Trip
DESCRIPTION:Reality Trip follows three college friends vacationing in Door County who want to get off the grid and reconnect. But a charming (and infinitely helpful) A.I. home-assistant installed at their rental cottage changes up the plans. What does it take for us to truly unplug nowadays? This musical comedy is about the importance of real human connection in a distraction-filled\, digital world.
URL:https://northernskytheater.com/event/reality-trip-2-2024-09-06/
CATEGORIES:Indoor Gould Theater
ATTACH;FMTTYPE=image/png:https://cdn.townweb.com/northernskytheater.com/wp-content/uploads/2024/03/RT_color-V.png
END:VEVENT
BEGIN:VEVENT
DTSTART;TZID=America/Chicago:20240907T140000
DTEND;TZID=America/Chicago:20240907T153000
DTSTAMP:20260421T162834
CREATED:20240228T195704Z
LAST-MODIFIED:20240606T180558Z
UID:28748-1725717600-1725723000@northernskytheater.com
SUMMARY:Reality Trip
DESCRIPTION:Reality Trip follows three college friends vacationing in Door County who want to get off the grid and reconnect. But a charming (and infinitely helpful) A.I. home-assistant installed at their rental cottage changes up the plans. What does it take for us to truly unplug nowadays? This musical comedy is about the importance of real human connection in a distraction-filled\, digital world.
URL:https://northernskytheater.com/event/reality-trip-2/2024-09-07/
CATEGORIES:Indoor Gould Theater
ATTACH;FMTTYPE=image/png:https://cdn.townweb.com/northernskytheater.com/wp-content/uploads/2024/03/RT_color-V.png
END:VEVENT
BEGIN:VEVENT
DTSTART;TZID=America/Chicago:20240907T190000
DTEND;TZID=America/Chicago:20240907T203000
DTSTAMP:20260421T162834
CREATED:20240228T195704Z
LAST-MODIFIED:20240606T180559Z
UID:28240-1725735600-1725741000@northernskytheater.com
SUMMARY:Reality Trip
DESCRIPTION:Reality Trip follows three college friends vacationing in Door County who want to get off the grid and reconnect. But a charming (and infinitely helpful) A.I. home-assistant installed at their rental cottage changes up the plans. What does it take for us to truly unplug nowadays? This musical comedy is about the importance of real human connection in a distraction-filled\, digital world.
URL:https://northernskytheater.com/event/reality-trip-2/2024-09-07/2/
CATEGORIES:Indoor Gould Theater
ATTACH;FMTTYPE=image/png:https://cdn.townweb.com/northernskytheater.com/wp-content/uploads/2024/03/RT_color-V.png
END:VEVENT
BEGIN:VEVENT
DTSTART;TZID=America/Chicago:20240909T190000
DTEND;TZID=America/Chicago:20240909T203000
DTSTAMP:20260421T162834
CREATED:20240228T195704Z
LAST-MODIFIED:20240606T180559Z
UID:28763-1725908400-1725913800@northernskytheater.com
SUMMARY:Reality Trip
DESCRIPTION:Reality Trip follows three college friends vacationing in Door County who want to get off the grid and reconnect. But a charming (and infinitely helpful) A.I. home-assistant installed at their rental cottage changes up the plans. What does it take for us to truly unplug nowadays? This musical comedy is about the importance of real human connection in a distraction-filled\, digital world.
URL:https://northernskytheater.com/event/reality-trip-2/2024-09-09/
CATEGORIES:Indoor Gould Theater
ATTACH;FMTTYPE=image/png:https://cdn.townweb.com/northernskytheater.com/wp-content/uploads/2024/03/RT_color-V.png
END:VEVENT
BEGIN:VEVENT
DTSTART;TZID=America/Chicago:20240910T190000
DTEND;TZID=America/Chicago:20240910T203000
DTSTAMP:20260421T162834
CREATED:20240228T195704Z
LAST-MODIFIED:20240606T180559Z
UID:28242-1725994800-1726000200@northernskytheater.com
SUMMARY:Reality Trip
DESCRIPTION:Reality Trip follows three college friends vacationing in Door County who want to get off the grid and reconnect. But a charming (and infinitely helpful) A.I. home-assistant installed at their rental cottage changes up the plans. What does it take for us to truly unplug nowadays? This musical comedy is about the importance of real human connection in a distraction-filled\, digital world.
URL:https://northernskytheater.com/event/reality-trip-2/2024-09-10/
CATEGORIES:Indoor Gould Theater
ATTACH;FMTTYPE=image/png:https://cdn.townweb.com/northernskytheater.com/wp-content/uploads/2024/03/RT_color-V.png
END:VEVENT
BEGIN:VEVENT
DTSTART;TZID=America/Chicago:20240911T190000
DTEND;TZID=America/Chicago:20240911T203000
DTSTAMP:20260421T162834
CREATED:20240228T195704Z
LAST-MODIFIED:20240606T180603Z
UID:28243-1726081200-1726086600@northernskytheater.com
SUMMARY:Reality Trip
DESCRIPTION:Reality Trip follows three college friends vacationing in Door County who want to get off the grid and reconnect. But a charming (and infinitely helpful) A.I. home-assistant installed at their rental cottage changes up the plans. What does it take for us to truly unplug nowadays? This musical comedy is about the importance of real human connection in a distraction-filled\, digital world.
URL:https://northernskytheater.com/event/reality-trip-2/2024-09-11/
CATEGORIES:Indoor Gould Theater
ATTACH;FMTTYPE=image/png:https://cdn.townweb.com/northernskytheater.com/wp-content/uploads/2024/03/RT_color-V.png
END:VEVENT
BEGIN:VEVENT
DTSTART;TZID=America/Chicago:20240912T190000
DTEND;TZID=America/Chicago:20240912T203000
DTSTAMP:20260421T162834
CREATED:20240228T195704Z
LAST-MODIFIED:20240606T180604Z
UID:28245-1726167600-1726173000@northernskytheater.com
SUMMARY:Reality Trip
DESCRIPTION:Reality Trip follows three college friends vacationing in Door County who want to get off the grid and reconnect. But a charming (and infinitely helpful) A.I. home-assistant installed at their rental cottage changes up the plans. What does it take for us to truly unplug nowadays? This musical comedy is about the importance of real human connection in a distraction-filled\, digital world.
URL:https://northernskytheater.com/event/reality-trip-2/2024-09-12/
CATEGORIES:Indoor Gould Theater
ATTACH;FMTTYPE=image/png:https://cdn.townweb.com/northernskytheater.com/wp-content/uploads/2024/03/RT_color-V.png
END:VEVENT
BEGIN:VEVENT
DTSTART;TZID=America/Chicago:20240913T190000
DTEND;TZID=America/Chicago:20240913T203000
DTSTAMP:20260421T162834
CREATED:20240228T195704Z
LAST-MODIFIED:20240606T180604Z
UID:28246-1726254000-1726259400@northernskytheater.com
SUMMARY:Reality Trip
DESCRIPTION:Reality Trip follows three college friends vacationing in Door County who want to get off the grid and reconnect. But a charming (and infinitely helpful) A.I. home-assistant installed at their rental cottage changes up the plans. What does it take for us to truly unplug nowadays? This musical comedy is about the importance of real human connection in a distraction-filled\, digital world.
URL:https://northernskytheater.com/event/reality-trip-2/2024-09-13/
CATEGORIES:Indoor Gould Theater
ATTACH;FMTTYPE=image/png:https://cdn.townweb.com/northernskytheater.com/wp-content/uploads/2024/03/RT_color-V.png
END:VEVENT
BEGIN:VEVENT
DTSTART;TZID=America/Chicago:20240914T140000
DTEND;TZID=America/Chicago:20240914T153000
DTSTAMP:20260421T162834
CREATED:20240228T195704Z
LAST-MODIFIED:20240606T180604Z
UID:28749-1726322400-1726327800@northernskytheater.com
SUMMARY:Reality Trip
DESCRIPTION:Reality Trip follows three college friends vacationing in Door County who want to get off the grid and reconnect. But a charming (and infinitely helpful) A.I. home-assistant installed at their rental cottage changes up the plans. What does it take for us to truly unplug nowadays? This musical comedy is about the importance of real human connection in a distraction-filled\, digital world.
URL:https://northernskytheater.com/event/reality-trip-2/2024-09-14/
CATEGORIES:Indoor Gould Theater
ATTACH;FMTTYPE=image/png:https://cdn.townweb.com/northernskytheater.com/wp-content/uploads/2024/03/RT_color-V.png
END:VEVENT
BEGIN:VEVENT
DTSTART;TZID=America/Chicago:20240914T190000
DTEND;TZID=America/Chicago:20240914T203000
DTSTAMP:20260421T162834
CREATED:20240228T195704Z
LAST-MODIFIED:20240606T180604Z
UID:28248-1726340400-1726345800@northernskytheater.com
SUMMARY:Reality Trip
DESCRIPTION:Reality Trip follows three college friends vacationing in Door County who want to get off the grid and reconnect. But a charming (and infinitely helpful) A.I. home-assistant installed at their rental cottage changes up the plans. What does it take for us to truly unplug nowadays? This musical comedy is about the importance of real human connection in a distraction-filled\, digital world.
URL:https://northernskytheater.com/event/reality-trip-2/2024-09-14/3/
CATEGORIES:Indoor Gould Theater
ATTACH;FMTTYPE=image/png:https://cdn.townweb.com/northernskytheater.com/wp-content/uploads/2024/03/RT_color-V.png
END:VEVENT
BEGIN:VEVENT
DTSTART;TZID=America/Chicago:20240916T190000
DTEND;TZID=America/Chicago:20240916T203000
DTSTAMP:20260421T162834
CREATED:20240228T195704Z
LAST-MODIFIED:20240606T180605Z
UID:28764-1726513200-1726518600@northernskytheater.com
SUMMARY:Reality Trip
DESCRIPTION:Reality Trip follows three college friends vacationing in Door County who want to get off the grid and reconnect. But a charming (and infinitely helpful) A.I. home-assistant installed at their rental cottage changes up the plans. What does it take for us to truly unplug nowadays? This musical comedy is about the importance of real human connection in a distraction-filled\, digital world.
URL:https://northernskytheater.com/event/reality-trip-2/2024-09-16/
CATEGORIES:Indoor Gould Theater
ATTACH;FMTTYPE=image/png:https://cdn.townweb.com/northernskytheater.com/wp-content/uploads/2024/03/RT_color-V.png
END:VEVENT
BEGIN:VEVENT
DTSTART;TZID=America/Chicago:20240917T190000
DTEND;TZID=America/Chicago:20240917T203000
DTSTAMP:20260421T162834
CREATED:20240228T195704Z
LAST-MODIFIED:20240606T180605Z
UID:28250-1726599600-1726605000@northernskytheater.com
SUMMARY:Reality Trip
DESCRIPTION:Reality Trip follows three college friends vacationing in Door County who want to get off the grid and reconnect. But a charming (and infinitely helpful) A.I. home-assistant installed at their rental cottage changes up the plans. What does it take for us to truly unplug nowadays? This musical comedy is about the importance of real human connection in a distraction-filled\, digital world.
URL:https://northernskytheater.com/event/reality-trip-2/2024-09-17/
CATEGORIES:Indoor Gould Theater
ATTACH;FMTTYPE=image/png:https://cdn.townweb.com/northernskytheater.com/wp-content/uploads/2024/03/RT_color-V.png
END:VEVENT
BEGIN:VEVENT
DTSTART;TZID=America/Chicago:20240918T190000
DTEND;TZID=America/Chicago:20240918T203000
DTSTAMP:20260421T162834
CREATED:20240228T195704Z
LAST-MODIFIED:20240606T180605Z
UID:28251-1726686000-1726691400@northernskytheater.com
SUMMARY:Reality Trip
DESCRIPTION:Reality Trip follows three college friends vacationing in Door County who want to get off the grid and reconnect. But a charming (and infinitely helpful) A.I. home-assistant installed at their rental cottage changes up the plans. What does it take for us to truly unplug nowadays? This musical comedy is about the importance of real human connection in a distraction-filled\, digital world.
URL:https://northernskytheater.com/event/reality-trip-2/2024-09-18/
CATEGORIES:Indoor Gould Theater
ATTACH;FMTTYPE=image/png:https://cdn.townweb.com/northernskytheater.com/wp-content/uploads/2024/03/RT_color-V.png
END:VEVENT
BEGIN:VEVENT
DTSTART;TZID=America/Chicago:20240919T190000
DTEND;TZID=America/Chicago:20240919T203000
DTSTAMP:20260421T162834
CREATED:20240228T195704Z
LAST-MODIFIED:20240606T180606Z
UID:28252-1726772400-1726777800@northernskytheater.com
SUMMARY:Reality Trip
DESCRIPTION:Reality Trip follows three college friends vacationing in Door County who want to get off the grid and reconnect. But a charming (and infinitely helpful) A.I. home-assistant installed at their rental cottage changes up the plans. What does it take for us to truly unplug nowadays? This musical comedy is about the importance of real human connection in a distraction-filled\, digital world.
URL:https://northernskytheater.com/event/reality-trip-2/2024-09-19/
CATEGORIES:Indoor Gould Theater
ATTACH;FMTTYPE=image/png:https://cdn.townweb.com/northernskytheater.com/wp-content/uploads/2024/03/RT_color-V.png
END:VEVENT
BEGIN:VEVENT
DTSTART;TZID=America/Chicago:20240920T190000
DTEND;TZID=America/Chicago:20240920T203000
DTSTAMP:20260421T162834
CREATED:20240228T195704Z
LAST-MODIFIED:20240606T180606Z
UID:28253-1726858800-1726864200@northernskytheater.com
SUMMARY:Reality Trip
DESCRIPTION:Reality Trip follows three college friends vacationing in Door County who want to get off the grid and reconnect. But a charming (and infinitely helpful) A.I. home-assistant installed at their rental cottage changes up the plans. What does it take for us to truly unplug nowadays? This musical comedy is about the importance of real human connection in a distraction-filled\, digital world.
URL:https://northernskytheater.com/event/reality-trip-2/2024-09-20/
CATEGORIES:Indoor Gould Theater
ATTACH;FMTTYPE=image/png:https://cdn.townweb.com/northernskytheater.com/wp-content/uploads/2024/03/RT_color-V.png
END:VEVENT
BEGIN:VEVENT
DTSTART;TZID=America/Chicago:20240921T140000
DTEND;TZID=America/Chicago:20240921T153000
DTSTAMP:20260421T162834
CREATED:20240228T195704Z
LAST-MODIFIED:20240606T180608Z
UID:28750-1726927200-1726932600@northernskytheater.com
SUMMARY:Reality Trip
DESCRIPTION:Reality Trip follows three college friends vacationing in Door County who want to get off the grid and reconnect. But a charming (and infinitely helpful) A.I. home-assistant installed at their rental cottage changes up the plans. What does it take for us to truly unplug nowadays? This musical comedy is about the importance of real human connection in a distraction-filled\, digital world.
URL:https://northernskytheater.com/event/reality-trip-2/2024-09-21/
CATEGORIES:Indoor Gould Theater
ATTACH;FMTTYPE=image/png:https://cdn.townweb.com/northernskytheater.com/wp-content/uploads/2024/03/RT_color-V.png
END:VEVENT
BEGIN:VEVENT
DTSTART;TZID=America/Chicago:20240921T190000
DTEND;TZID=America/Chicago:20240921T203000
DTSTAMP:20260421T162834
CREATED:20240228T195704Z
LAST-MODIFIED:20240606T180608Z
UID:28255-1726945200-1726950600@northernskytheater.com
SUMMARY:Reality Trip
DESCRIPTION:Reality Trip follows three college friends vacationing in Door County who want to get off the grid and reconnect. But a charming (and infinitely helpful) A.I. home-assistant installed at their rental cottage changes up the plans. What does it take for us to truly unplug nowadays? This musical comedy is about the importance of real human connection in a distraction-filled\, digital world.
URL:https://northernskytheater.com/event/reality-trip-2/2024-09-21/
CATEGORIES:Indoor Gould Theater
ATTACH;FMTTYPE=image/png:https://cdn.townweb.com/northernskytheater.com/wp-content/uploads/2024/03/RT_color-V.png
END:VEVENT
BEGIN:VEVENT
DTSTART;TZID=America/Chicago:20240923T190000
DTEND;TZID=America/Chicago:20240923T203000
DTSTAMP:20260421T162834
CREATED:20240228T195704Z
LAST-MODIFIED:20240606T180608Z
UID:28765-1727118000-1727123400@northernskytheater.com
SUMMARY:Reality Trip
DESCRIPTION:Reality Trip follows three college friends vacationing in Door County who want to get off the grid and reconnect. But a charming (and infinitely helpful) A.I. home-assistant installed at their rental cottage changes up the plans. What does it take for us to truly unplug nowadays? This musical comedy is about the importance of real human connection in a distraction-filled\, digital world.
URL:https://northernskytheater.com/event/reality-trip-2/2024-09-23/
CATEGORIES:Indoor Gould Theater
ATTACH;FMTTYPE=image/png:https://cdn.townweb.com/northernskytheater.com/wp-content/uploads/2024/03/RT_color-V.png
END:VEVENT
BEGIN:VEVENT
DTSTART;TZID=America/Chicago:20240924T190000
DTEND;TZID=America/Chicago:20240924T203000
DTSTAMP:20260421T162834
CREATED:20240228T195704Z
LAST-MODIFIED:20240606T180608Z
UID:28257-1727204400-1727209800@northernskytheater.com
SUMMARY:Reality Trip
DESCRIPTION:Reality Trip follows three college friends vacationing in Door County who want to get off the grid and reconnect. But a charming (and infinitely helpful) A.I. home-assistant installed at their rental cottage changes up the plans. What does it take for us to truly unplug nowadays? This musical comedy is about the importance of real human connection in a distraction-filled\, digital world.
URL:https://northernskytheater.com/event/reality-trip-2/2024-09-24/
CATEGORIES:Indoor Gould Theater
ATTACH;FMTTYPE=image/png:https://cdn.townweb.com/northernskytheater.com/wp-content/uploads/2024/03/RT_color-V.png
END:VEVENT
BEGIN:VEVENT
DTSTART;TZID=America/Chicago:20240925T190000
DTEND;TZID=America/Chicago:20240925T203000
DTSTAMP:20260421T162834
CREATED:20240228T195704Z
LAST-MODIFIED:20240606T180609Z
UID:28258-1727290800-1727296200@northernskytheater.com
SUMMARY:Reality Trip
DESCRIPTION:Reality Trip follows three college friends vacationing in Door County who want to get off the grid and reconnect. But a charming (and infinitely helpful) A.I. home-assistant installed at their rental cottage changes up the plans. What does it take for us to truly unplug nowadays? This musical comedy is about the importance of real human connection in a distraction-filled\, digital world.
URL:https://northernskytheater.com/event/reality-trip-2/2024-09-25/
CATEGORIES:Indoor Gould Theater
ATTACH;FMTTYPE=image/png:https://cdn.townweb.com/northernskytheater.com/wp-content/uploads/2024/03/RT_color-V.png
END:VEVENT
BEGIN:VEVENT
DTSTART;TZID=America/Chicago:20240926T190000
DTEND;TZID=America/Chicago:20240926T203000
DTSTAMP:20260421T162834
CREATED:20240228T195704Z
LAST-MODIFIED:20240606T180609Z
UID:28259-1727377200-1727382600@northernskytheater.com
SUMMARY:Reality Trip
DESCRIPTION:Reality Trip follows three college friends vacationing in Door County who want to get off the grid and reconnect. But a charming (and infinitely helpful) A.I. home-assistant installed at their rental cottage changes up the plans. What does it take for us to truly unplug nowadays? This musical comedy is about the importance of real human connection in a distraction-filled\, digital world.
URL:https://northernskytheater.com/event/reality-trip-2/2024-09-26/
CATEGORIES:Indoor Gould Theater
ATTACH;FMTTYPE=image/png:https://cdn.townweb.com/northernskytheater.com/wp-content/uploads/2024/03/RT_color-V.png
END:VEVENT
BEGIN:VEVENT
DTSTART;TZID=America/Chicago:20240927T190000
DTEND;TZID=America/Chicago:20240927T203000
DTSTAMP:20260421T162834
CREATED:20240228T195704Z
LAST-MODIFIED:20240606T180609Z
UID:28260-1727463600-1727469000@northernskytheater.com
SUMMARY:Reality Trip
DESCRIPTION:Reality Trip follows three college friends vacationing in Door County who want to get off the grid and reconnect. But a charming (and infinitely helpful) A.I. home-assistant installed at their rental cottage changes up the plans. What does it take for us to truly unplug nowadays? This musical comedy is about the importance of real human connection in a distraction-filled\, digital world.
URL:https://northernskytheater.com/event/reality-trip-2/2024-09-27/
CATEGORIES:Indoor Gould Theater
ATTACH;FMTTYPE=image/png:https://cdn.townweb.com/northernskytheater.com/wp-content/uploads/2024/03/RT_color-V.png
END:VEVENT
BEGIN:VEVENT
DTSTART;TZID=America/Chicago:20240928T140000
DTEND;TZID=America/Chicago:20240928T153000
DTSTAMP:20260421T162834
CREATED:20240228T195704Z
LAST-MODIFIED:20240606T180610Z
UID:28751-1727532000-1727537400@northernskytheater.com
SUMMARY:Reality Trip
DESCRIPTION:Reality Trip follows three college friends vacationing in Door County who want to get off the grid and reconnect. But a charming (and infinitely helpful) A.I. home-assistant installed at their rental cottage changes up the plans. What does it take for us to truly unplug nowadays? This musical comedy is about the importance of real human connection in a distraction-filled\, digital world.
URL:https://northernskytheater.com/event/reality-trip-2/2024-09-28/
CATEGORIES:Indoor Gould Theater
ATTACH;FMTTYPE=image/png:https://cdn.townweb.com/northernskytheater.com/wp-content/uploads/2024/03/RT_color-V.png
END:VEVENT
BEGIN:VEVENT
DTSTART;TZID=America/Chicago:20240928T190000
DTEND;TZID=America/Chicago:20240928T203000
DTSTAMP:20260421T162834
CREATED:20240228T195704Z
LAST-MODIFIED:20240606T180610Z
UID:28262-1727550000-1727555400@northernskytheater.com
SUMMARY:Reality Trip
DESCRIPTION:Reality Trip follows three college friends vacationing in Door County who want to get off the grid and reconnect. But a charming (and infinitely helpful) A.I. home-assistant installed at their rental cottage changes up the plans. What does it take for us to truly unplug nowadays? This musical comedy is about the importance of real human connection in a distraction-filled\, digital world.
URL:https://northernskytheater.com/event/reality-trip-2/2024-09-28/4/
CATEGORIES:Indoor Gould Theater
ATTACH;FMTTYPE=image/png:https://cdn.townweb.com/northernskytheater.com/wp-content/uploads/2024/03/RT_color-V.png
END:VEVENT
BEGIN:VEVENT
DTSTART;TZID=America/Chicago:20240930T190000
DTEND;TZID=America/Chicago:20240930T203000
DTSTAMP:20260421T162834
CREATED:20240228T195704Z
LAST-MODIFIED:20240606T180610Z
UID:28766-1727722800-1727728200@northernskytheater.com
SUMMARY:Reality Trip
DESCRIPTION:Reality Trip follows three college friends vacationing in Door County who want to get off the grid and reconnect. But a charming (and infinitely helpful) A.I. home-assistant installed at their rental cottage changes up the plans. What does it take for us to truly unplug nowadays? This musical comedy is about the importance of real human connection in a distraction-filled\, digital world.
URL:https://northernskytheater.com/event/reality-trip-2/2024-09-30/
CATEGORIES:Indoor Gould Theater
ATTACH;FMTTYPE=image/png:https://cdn.townweb.com/northernskytheater.com/wp-content/uploads/2024/03/RT_color-V.png
END:VEVENT
END:VCALENDAR