BEGIN:VCALENDAR
VERSION:2.0
PRODID:-//Northern Sky Theater - ECPv6.15.20//NONSGML v1.0//EN
CALSCALE:GREGORIAN
METHOD:PUBLISH
X-ORIGINAL-URL:https://northernskytheater.com
X-WR-CALDESC:Events for Northern Sky Theater
REFRESH-INTERVAL;VALUE=DURATION:PT1H
X-Robots-Tag:noindex
X-PUBLISHED-TTL:PT1H
BEGIN:VTIMEZONE
TZID:UTC
BEGIN:STANDARD
TZOFFSETFROM:+0000
TZOFFSETTO:+0000
TZNAME:UTC
DTSTART:20180101T000000
END:STANDARD
END:VTIMEZONE
BEGIN:VEVENT
DTSTART;TZID=UTC:20191224T000000
DTEND;TZID=UTC:20191230T235900
DTSTAMP:20260419T144156
CREATED:20200505T233630Z
LAST-MODIFIED:20200508T194516Z
UID:16624-1577145600-1577750340@northernskytheater.com
SUMMARY:Home for the Holidays
DESCRIPTION:Reunite with Northern Sky favorites Eric Lewis\, Katie Dahl\, and Rich Higdon for an uplifting evening of intimate seasonal songs\, dazzling instrumental fireworks\, and delightful holiday humor. These three musicians\, each well known in Door County in their own right\, also appear frequently together as a trio\, most recently releasing “Solid Ground\,” an album of songs written by Northern Sky co-founder Fred Alley. Eric\, Katie\, and Rich’s musical prowess\, ease with one another\, and love of holidaymusic will all be on full display at this year’s “Home for the Holidays.”
URL:https://northernskytheater.com/event/home-for-the-holidays-3/
CATEGORIES:Indoor Gould Theater
END:VEVENT
END:VCALENDAR