BEGIN:VCALENDAR
VERSION:2.0
PRODID:-//Northern Sky Theater - ECPv6.15.20//NONSGML v1.0//EN
CALSCALE:GREGORIAN
METHOD:PUBLISH
X-ORIGINAL-URL:https://northernskytheater.com
X-WR-CALDESC:Events for Northern Sky Theater
REFRESH-INTERVAL;VALUE=DURATION:PT1H
X-Robots-Tag:noindex
X-PUBLISHED-TTL:PT1H
BEGIN:VTIMEZONE
TZID:America/Chicago
BEGIN:DAYLIGHT
TZOFFSETFROM:-0600
TZOFFSETTO:-0500
TZNAME:CDT
DTSTART:20220313T080000
END:DAYLIGHT
BEGIN:STANDARD
TZOFFSETFROM:-0500
TZOFFSETTO:-0600
TZNAME:CST
DTSTART:20221106T070000
END:STANDARD
BEGIN:DAYLIGHT
TZOFFSETFROM:-0600
TZOFFSETTO:-0500
TZNAME:CDT
DTSTART:20230312T080000
END:DAYLIGHT
BEGIN:STANDARD
TZOFFSETFROM:-0500
TZOFFSETTO:-0600
TZNAME:CST
DTSTART:20231105T070000
END:STANDARD
BEGIN:DAYLIGHT
TZOFFSETFROM:-0600
TZOFFSETTO:-0500
TZNAME:CDT
DTSTART:20240310T080000
END:DAYLIGHT
BEGIN:STANDARD
TZOFFSETFROM:-0500
TZOFFSETTO:-0600
TZNAME:CST
DTSTART:20241103T070000
END:STANDARD
END:VTIMEZONE
BEGIN:VEVENT
DTSTART;TZID=America/Chicago:20230909T190000
DTEND;TZID=America/Chicago:20230909T210000
DTSTAMP:20260425T213503
CREATED:20230830T212053Z
LAST-MODIFIED:20230830T212650Z
UID:27425-1694286000-1694293200@northernskytheater.com
SUMMARY:Guest Event: Eric Lewis and the Griffon String Quartet
DESCRIPTION:Midsummer’s Music presents Eric Lewis and the Griffon String Quartet at the “Beneath the Waves” CD release concert on September 9 in the Gould. \nBeneath the Waves is a collection of instrumental tunes and songs written by Memphis-based musician Eric Lewis\, along with the addition of “Salt Creek\,” a traditional fiddle tune. Composer Sam Shoup of Memphis expertly provided the string arrangements. Lewis says\, “It has been a great desire of mine to collaborate with the Griffon String Quartet and Midsummer’s Music for some time now. It is a dream come true to perform this music with such high caliber musicians and to preserve it on record. The Griffon String Quartet really brings this music to life!”
URL:https://northernskytheater.com/event/guest-event-eric-lewis-gsq-090923/
LOCATION:Indoor Gould Theater\, 9058 County Road A\, Fish Creek\, WI\, 54212\, United States
CATEGORIES:Guest Event
ATTACH;FMTTYPE=image/jpeg:https://cdn.townweb.com/northernskytheater.com/wp-content/uploads/2023/08/ELewisandGriffonStringQuartet-01-RGB-lg-scaled.jpg
END:VEVENT
END:VCALENDAR