BEGIN:VCALENDAR
VERSION:2.0
PRODID:-//Northern Sky Theater - ECPv6.15.20//NONSGML v1.0//EN
CALSCALE:GREGORIAN
METHOD:PUBLISH
X-ORIGINAL-URL:https://northernskytheater.com
X-WR-CALDESC:Events for Northern Sky Theater
REFRESH-INTERVAL;VALUE=DURATION:PT1H
X-Robots-Tag:noindex
X-PUBLISHED-TTL:PT1H
BEGIN:VTIMEZONE
TZID:America/Chicago
BEGIN:DAYLIGHT
TZOFFSETFROM:-0600
TZOFFSETTO:-0500
TZNAME:CDT
DTSTART:20220313T080000
END:DAYLIGHT
BEGIN:STANDARD
TZOFFSETFROM:-0500
TZOFFSETTO:-0600
TZNAME:CST
DTSTART:20221106T070000
END:STANDARD
BEGIN:DAYLIGHT
TZOFFSETFROM:-0600
TZOFFSETTO:-0500
TZNAME:CDT
DTSTART:20230312T080000
END:DAYLIGHT
BEGIN:STANDARD
TZOFFSETFROM:-0500
TZOFFSETTO:-0600
TZNAME:CST
DTSTART:20231105T070000
END:STANDARD
BEGIN:DAYLIGHT
TZOFFSETFROM:-0600
TZOFFSETTO:-0500
TZNAME:CDT
DTSTART:20240310T080000
END:DAYLIGHT
BEGIN:STANDARD
TZOFFSETFROM:-0500
TZOFFSETTO:-0600
TZNAME:CST
DTSTART:20241103T070000
END:STANDARD
END:VTIMEZONE
BEGIN:VEVENT
DTSTART;TZID=America/Chicago:20230217T190000
DTEND;TZID=America/Chicago:20230217T213000
DTSTAMP:20260425T182454
CREATED:20230110T194002Z
LAST-MODIFIED:20230221T192043Z
UID:26108-1676660400-1676669400@northernskytheater.com
SUMMARY:Guest Event: Door County Short Film Festival
DESCRIPTION:14th Annual Door County Short Film Festival\nFriday & Saturday February 17-18\, 2023\n$25 weekend pass\n\nFriday\, Feb. 17th: 6pm Doors open\nFull length feature film at 7pm\n\nSaturday\, Feb. 18th: 1pm to 7pm\n30 short films; Discussions and Q&A with filmmakers; Refreshments served
URL:https://northernskytheater.com/event/guest-event-short-film-fest/2023-02-17/
LOCATION:Indoor Gould Theater\, 9058 County Road A\, Fish Creek\, WI\, 54212\, United States
CATEGORIES:Guest Event
ATTACH;FMTTYPE=image/jpeg:https://cdn.townweb.com/northernskytheater.com/wp-content/uploads/2023/01/Short-Film-Fest.jpg
END:VEVENT
END:VCALENDAR